BEGIN:VCALENDAR
VERSION:2.0
PRODID:-//clamp-net.com - ECPv6.15.18//NONSGML v1.0//EN
CALSCALE:GREGORIAN
METHOD:PUBLISH
X-WR-CALNAME:clamp-net.com
X-ORIGINAL-URL:https://clamp-net.com
X-WR-CALDESC:clamp-net.com のイベント
REFRESH-INTERVAL;VALUE=DURATION:PT1H
X-Robots-Tag:noindex
X-PUBLISHED-TTL:PT1H
BEGIN:VTIMEZONE
TZID:Asia/Tokyo
BEGIN:STANDARD
TZOFFSETFROM:+0900
TZOFFSETTO:+0900
TZNAME:JST
DTSTART:20250101T000000
END:STANDARD
END:VTIMEZONE
BEGIN:VEVENT
DTSTART;VALUE=DATE:20260502
DTEND;VALUE=DATE:20260503
DTSTAMP:20260425T211722
CREATED:20260406T060009Z
LAST-MODIFIED:20260406T060009Z
UID:60670-1777680000-1777766399@clamp-net.com
SUMMARY:「ヤングエース」2026年6月号 付録：「ANGELIC LAYER」特製ポストカード、第1話特別掲載
DESCRIPTION:
URL:https://clamp-net.com/schedule/%e3%80%8c%e3%83%a4%e3%83%b3%e3%82%b0%e3%82%a8%e3%83%bc%e3%82%b9%e3%80%8d2026%e5%b9%b46%e6%9c%88%e5%8f%b7-%e4%bb%98%e9%8c%b2%ef%bc%9a%e3%80%8cangelic-layer%e3%80%8d%e7%89%b9%e8%a3%bd%e3%83%9d%e3%82%b9
END:VEVENT
END:VCALENDAR