BEGIN:VCALENDAR
VERSION:2.0
PRODID:-//clamp-net.com - ECPv6.15.18//NONSGML v1.0//EN
CALSCALE:GREGORIAN
METHOD:PUBLISH
X-WR-CALNAME:clamp-net.com
X-ORIGINAL-URL:https://clamp-net.com
X-WR-CALDESC:clamp-net.com のイベント
REFRESH-INTERVAL;VALUE=DURATION:PT1H
X-Robots-Tag:noindex
X-PUBLISHED-TTL:PT1H
BEGIN:VTIMEZONE
TZID:Asia/Tokyo
BEGIN:STANDARD
TZOFFSETFROM:+0900
TZOFFSETTO:+0900
TZNAME:JST
DTSTART:20250101T000000
END:STANDARD
END:VTIMEZONE
BEGIN:VEVENT
DTSTART;VALUE=DATE:20260408
DTEND;VALUE=DATE:20260409
DTSTAMP:20260425T212533
CREATED:20260409T000004Z
LAST-MODIFIED:20260409T000004Z
UID:60677-1775606400-1775692799@clamp-net.com
SUMMARY:「CLAMP in KYOTO 綴」コラボ第2弾「魔法騎士レイアース」受注開始
DESCRIPTION:
URL:https://clamp-net.com/schedule/%e3%80%8cclamp-in-kyoto-%e7%b6%b4%e3%80%8d%e3%82%b3%e3%83%a9%e3%83%9c%e7%ac%ac2%e5%bc%be%e3%80%8c%e9%ad%94%e6%b3%95%e9%a8%8e%e5%a3%ab%e3%83%ac%e3%82%a4%e3%82%a2%e3%83%bc%e3%82%b9%e3%80%8d%e5%8f%97
END:VEVENT
END:VCALENDAR