BEGIN:VCALENDAR
VERSION:2.0
PRODID:-//clamp-net.com - ECPv6.15.18//NONSGML v1.0//EN
CALSCALE:GREGORIAN
METHOD:PUBLISH
X-ORIGINAL-URL:https://clamp-net.com
X-WR-CALDESC:clamp-net.com のイベント
REFRESH-INTERVAL;VALUE=DURATION:PT1H
X-Robots-Tag:noindex
X-PUBLISHED-TTL:PT1H
BEGIN:VTIMEZONE
TZID:Asia/Tokyo
BEGIN:STANDARD
TZOFFSETFROM:+0900
TZOFFSETTO:+0900
TZNAME:JST
DTSTART:20250101T000000
END:STANDARD
END:VTIMEZONE
BEGIN:VEVENT
DTSTART;VALUE=DATE:20260403
DTEND;VALUE=DATE:20260404
DTSTAMP:20260425T213656
CREATED:20260319T000027Z
LAST-MODIFIED:20260319T000027Z
UID:60613-1775174400-1775260799@clamp-net.com
SUMMARY:『なかよし』2026年5月号（4/3発売）付録：レジェンド☆クリアメッセージカード
DESCRIPTION:
URL:https://clamp-net.com/schedule/%e3%80%8e%e3%81%aa%e3%81%8b%e3%82%88%e3%81%97%e3%80%8f2026%e5%b9%b45%e6%9c%88%e5%8f%b7%ef%bc%884-3%e7%99%ba%e5%a3%b2%ef%bc%89%e4%bb%98%e9%8c%b2%ef%bc%9a%e3%83%ac%e3%82%b8%e3%82%a7%e3%83%b3%e3%83%89
END:VEVENT
END:VCALENDAR