BEGIN:VCALENDAR
VERSION:2.0
PRODID:-//clamp-net.com - ECPv6.15.18//NONSGML v1.0//EN
CALSCALE:GREGORIAN
METHOD:PUBLISH
X-WR-CALNAME:clamp-net.com
X-ORIGINAL-URL:https://clamp-net.com
X-WR-CALDESC:clamp-net.com のイベント
REFRESH-INTERVAL;VALUE=DURATION:PT1H
X-Robots-Tag:noindex
X-PUBLISHED-TTL:PT1H
BEGIN:VTIMEZONE
TZID:Asia/Tokyo
BEGIN:STANDARD
TZOFFSETFROM:+0900
TZOFFSETTO:+0900
TZNAME:JST
DTSTART:20250101T000000
END:STANDARD
END:VTIMEZONE
BEGIN:VEVENT
DTSTART;VALUE=DATE:20260401
DTEND;VALUE=DATE:20260402
DTSTAMP:20260425T211650
CREATED:20260212T030148Z
LAST-MODIFIED:20260212T030148Z
UID:60547-1775001600-1775087999@clamp-net.com
SUMMARY:「CLAMP FANS SHOP」グランドオープン
DESCRIPTION:
URL:https://clamp-net.com/schedule/%e3%80%8cclamp-fans-shop%e3%80%8d%e3%82%b0%e3%83%a9%e3%83%b3%e3%83%89%e3%82%aa%e3%83%bc%e3%83%97%e3%83%b3
END:VEVENT
END:VCALENDAR