BEGIN:VCALENDAR
VERSION:2.0
PRODID:-//clamp-net.com - ECPv6.15.18//NONSGML v1.0//EN
CALSCALE:GREGORIAN
METHOD:PUBLISH
X-ORIGINAL-URL:https://clamp-net.com
X-WR-CALDESC:clamp-net.com のイベント
REFRESH-INTERVAL;VALUE=DURATION:PT1H
X-Robots-Tag:noindex
X-PUBLISHED-TTL:PT1H
BEGIN:VTIMEZONE
TZID:Asia/Tokyo
BEGIN:STANDARD
TZOFFSETFROM:+0900
TZOFFSETTO:+0900
TZNAME:JST
DTSTART:20250101T000000
END:STANDARD
END:VTIMEZONE
BEGIN:VEVENT
DTSTART;VALUE=DATE:20260328
DTEND;VALUE=DATE:20260329
DTSTAMP:20260425T225216
CREATED:20260116T111126Z
LAST-MODIFIED:20260116T111126Z
UID:60498-1774656000-1774742399@clamp-net.com
SUMMARY:TVアニメ『魔法騎士レイアース』スペシャルステージ＠16:15〜AnimeJapan 2026 REDステージ
DESCRIPTION:
URL:https://clamp-net.com/schedule/tv%e3%82%a2%e3%83%8b%e3%83%a1%e3%80%8e%e9%ad%94%e6%b3%95%e9%a8%8e%e5%a3%ab%e3%83%ac%e3%82%a4%e3%82%a2%e3%83%bc%e3%82%b9%e3%80%8f%e3%82%b9%e3%83%9a%e3%82%b7%e3%83%a3%e3%83%ab%e3%82%b9%e3%83%86%e3%83%bc
END:VEVENT
END:VCALENDAR