BEGIN:VCALENDAR
VERSION:2.0
PRODID:-//clamp-net.com - ECPv6.15.18//NONSGML v1.0//EN
CALSCALE:GREGORIAN
METHOD:PUBLISH
X-ORIGINAL-URL:https://clamp-net.com
X-WR-CALDESC:clamp-net.com のイベント
REFRESH-INTERVAL;VALUE=DURATION:PT1H
X-Robots-Tag:noindex
X-PUBLISHED-TTL:PT1H
BEGIN:VTIMEZONE
TZID:Asia/Tokyo
BEGIN:STANDARD
TZOFFSETFROM:+0900
TZOFFSETTO:+0900
TZNAME:JST
DTSTART:20250101T000000
END:STANDARD
END:VTIMEZONE
BEGIN:VEVENT
DTSTART;VALUE=DATE:20260319
DTEND;VALUE=DATE:20260320
DTSTAMP:20260425T225215
CREATED:20260119T040019Z
LAST-MODIFIED:20260119T040019Z
UID:60512-1773878400-1773964799@clamp-net.com
SUMMARY:グランドオープン予定「CLAMP FANS SHOP」会員情報移行キャンペーン（〜3/10まで）
DESCRIPTION:
URL:https://clamp-net.com/schedule/%e3%82%b0%e3%83%a9%e3%83%b3%e3%83%89%e3%82%aa%e3%83%bc%e3%83%97%e3%83%b3%e4%ba%88%e5%ae%9a%e3%80%8cclamp-fans-shop%e3%80%8d%e4%bc%9a%e5%93%a1%e6%83%85%e5%a0%b1%e7%a7%bb%e8%a1%8c%e3%82%ad%e3%83%a3
END:VEVENT
END:VCALENDAR