BEGIN:VCALENDAR
VERSION:2.0
PRODID:-//clamp-net.com - ECPv6.15.18//NONSGML v1.0//EN
CALSCALE:GREGORIAN
METHOD:PUBLISH
X-ORIGINAL-URL:https://clamp-net.com
X-WR-CALDESC:clamp-net.com のイベント
REFRESH-INTERVAL;VALUE=DURATION:PT1H
X-Robots-Tag:noindex
X-PUBLISHED-TTL:PT1H
BEGIN:VTIMEZONE
TZID:Asia/Tokyo
BEGIN:STANDARD
TZOFFSETFROM:+0900
TZOFFSETTO:+0900
TZNAME:JST
DTSTART:20250101T000000
END:STANDARD
END:VTIMEZONE
BEGIN:VEVENT
DTSTART;VALUE=DATE:20260227
DTEND;VALUE=DATE:20260228
DTSTAMP:20260425T225209
CREATED:20260227T080205Z
LAST-MODIFIED:20260227T080205Z
UID:60588-1772150400-1772236799@clamp-net.com
SUMMARY:アニメ「機動天使エンジェリックレイヤー」第1話 アニメタイムズ 公式YouTubeチャンネル配信開始
DESCRIPTION:
URL:https://clamp-net.com/schedule/%e3%82%a2%e3%83%8b%e3%83%a1%e3%80%8c%e6%a9%9f%e5%8b%95%e5%a4%a9%e4%bd%bf%e3%82%a8%e3%83%b3%e3%82%b8%e3%82%a7%e3%83%aa%e3%83%83%e3%82%af%e3%83%ac%e3%82%a4%e3%83%a4%e3%83%bc%e3%80%8d%e7%ac%ac1%e8%a9%b1
END:VEVENT
END:VCALENDAR