BEGIN:VCALENDAR
VERSION:2.0
PRODID:-//clamp-net.com - ECPv6.15.18//NONSGML v1.0//EN
CALSCALE:GREGORIAN
METHOD:PUBLISH
X-ORIGINAL-URL:https://clamp-net.com
X-WR-CALDESC:clamp-net.com のイベント
REFRESH-INTERVAL;VALUE=DURATION:PT1H
X-Robots-Tag:noindex
X-PUBLISHED-TTL:PT1H
BEGIN:VTIMEZONE
TZID:Asia/Tokyo
BEGIN:STANDARD
TZOFFSETFROM:+0900
TZOFFSETTO:+0900
TZNAME:JST
DTSTART:20250101T000000
END:STANDARD
END:VTIMEZONE
BEGIN:VEVENT
DTSTART;VALUE=DATE:20260216
DTEND;VALUE=DATE:20260217
DTSTAMP:20260426T001423
CREATED:20260116T074549Z
LAST-MODIFIED:20260116T074549Z
UID:60489-1771200000-1771286399@clamp-net.com
SUMMARY:「CLAMP in KYOTO 綴」CLAMP in KYOTO 綴 甘露 阿密哩多【amurita】～梅酒～発売
DESCRIPTION:
URL:https://clamp-net.com/schedule/%e3%80%8cclamp-in-kyoto-%e7%b6%b4%e3%80%8dclamp-in-kyoto-%e7%b6%b4-%e7%94%98%e9%9c%b2-%e9%98%bf%e5%af%86%e5%93%a9%e5%a4%9a%e3%80%90amurita%e3%80%91%ef%bd%9e%e6%a2%85%e9%85%92%ef%bd%9e%e7%99%ba
END:VEVENT
END:VCALENDAR