BEGIN:VCALENDAR
VERSION:2.0
PRODID:-//clamp-net.com - ECPv6.15.18//NONSGML v1.0//EN
CALSCALE:GREGORIAN
METHOD:PUBLISH
X-WR-CALNAME:clamp-net.com
X-ORIGINAL-URL:https://clamp-net.com
X-WR-CALDESC:clamp-net.com のイベント
REFRESH-INTERVAL;VALUE=DURATION:PT1H
X-Robots-Tag:noindex
X-PUBLISHED-TTL:PT1H
BEGIN:VTIMEZONE
TZID:Asia/Tokyo
BEGIN:STANDARD
TZOFFSETFROM:+0900
TZOFFSETTO:+0900
TZNAME:JST
DTSTART:20250101T000000
END:STANDARD
END:VTIMEZONE
BEGIN:VEVENT
DTSTART;VALUE=DATE:20260126
DTEND;VALUE=DATE:20260127
DTSTAMP:20260426T001332
CREATED:20260117T023456Z
LAST-MODIFIED:20260117T023456Z
UID:60503-1769385600-1769471999@clamp-net.com
SUMMARY:xxxHOLiC × 英国風パブHUB コラボ記念グッズ 事後受注（〜2026/2/15（日）まで）
DESCRIPTION:
URL:https://clamp-net.com/schedule/xxxholic-x-%e8%8b%b1%e5%9b%bd%e9%a2%a8%e3%83%91%e3%83%96hub-%e3%82%b3%e3%83%a9%e3%83%9c%e8%a8%98%e5%bf%b5%e3%82%b0%e3%83%83%e3%82%ba-%e4%ba%8b%e5%be%8c%e5%8f%97%e6%b3%a8%ef%bc%88%e3%80%9c2026-2-1
END:VEVENT
END:VCALENDAR