BEGIN:VCALENDAR
VERSION:2.0
PRODID:-//clamp-net.com - ECPv6.15.18//NONSGML v1.0//EN
CALSCALE:GREGORIAN
METHOD:PUBLISH
X-ORIGINAL-URL:https://clamp-net.com
X-WR-CALDESC:clamp-net.com のイベント
REFRESH-INTERVAL;VALUE=DURATION:PT1H
X-Robots-Tag:noindex
X-PUBLISHED-TTL:PT1H
BEGIN:VTIMEZONE
TZID:Asia/Tokyo
BEGIN:STANDARD
TZOFFSETFROM:+0900
TZOFFSETTO:+0900
TZNAME:JST
DTSTART:20250101T000000
END:STANDARD
END:VTIMEZONE
BEGIN:VEVENT
DTSTART;VALUE=DATE:20260123
DTEND;VALUE=DATE:20260124
DTSTAMP:20260426T013805
CREATED:20251121T215918Z
LAST-MODIFIED:20251121T215918Z
UID:60339-1769126400-1769212799@clamp-net.com
SUMMARY:「xxxHOLiC」 POP UP SHOP in OIOI＠大阪・なんばマルイ（〜2/8まで）
DESCRIPTION:
URL:https://clamp-net.com/schedule/%e3%80%8cxxxholic%e3%80%8d-pop-up-shop-in-oioi%ef%bc%a0%e5%a4%a7%e9%98%aa%e3%83%bb%e3%81%aa%e3%82%93%e3%81%b0%e3%83%9e%e3%83%ab%e3%82%a4%ef%bc%88%e3%80%9c2-8%e3%81%be%e3%81%a7%ef%bc%89
END:VEVENT
END:VCALENDAR