BEGIN:VCALENDAR
VERSION:2.0
PRODID:-//clamp-net.com - ECPv6.15.18//NONSGML v1.0//EN
CALSCALE:GREGORIAN
METHOD:PUBLISH
X-ORIGINAL-URL:https://clamp-net.com
X-WR-CALDESC:clamp-net.com のイベント
REFRESH-INTERVAL;VALUE=DURATION:PT1H
X-Robots-Tag:noindex
X-PUBLISHED-TTL:PT1H
BEGIN:VTIMEZONE
TZID:Asia/Tokyo
BEGIN:STANDARD
TZOFFSETFROM:+0900
TZOFFSETTO:+0900
TZNAME:JST
DTSTART:20250101T000000
END:STANDARD
END:VTIMEZONE
BEGIN:VEVENT
DTSTART;VALUE=DATE:20260119
DTEND;VALUE=DATE:20260120
DTSTAMP:20260426T013805
CREATED:20260119T030008Z
LAST-MODIFIED:20260119T030008Z
UID:60517-1768780800-1768867199@clamp-net.com
SUMMARY:CLAMP幹部会32回「2026年早々の色々」
DESCRIPTION:
URL:https://clamp-net.com/schedule/clamp%e5%b9%b9%e9%83%a8%e4%bc%9a32%e5%9b%9e%e3%80%8c2026%e5%b9%b4%e6%97%a9%e3%80%85%e3%81%ae%e8%89%b2%e3%80%85%e3%80%8d
END:VEVENT
BEGIN:VEVENT
DTSTART;VALUE=DATE:20260119
DTEND;VALUE=DATE:20260120
DTSTAMP:20260426T013805
CREATED:20260119T000304Z
LAST-MODIFIED:20260119T000304Z
UID:60505-1768780800-1768867199@clamp-net.com
SUMMARY:「ヤングマガジン」第8号 『xxxHOLiC・戻〈レイ〉』連載第70話
DESCRIPTION:
URL:https://clamp-net.com/schedule/%e3%80%8c%e3%83%a4%e3%83%b3%e3%82%b0%e3%83%9e%e3%82%ac%e3%82%b8%e3%83%b3%e3%80%8d%e7%ac%ac8%e5%8f%b7-%e3%80%8exxxholic%e3%83%bb%e6%88%bb%e3%80%88%e3%83%ac%e3%82%a4%e3%80%89%e3%80%8f%e9%80%a3%e8%bc%89
END:VEVENT
END:VCALENDAR