BEGIN:VCALENDAR
VERSION:2.0
PRODID:-//clamp-net.com - ECPv6.15.18//NONSGML v1.0//EN
CALSCALE:GREGORIAN
METHOD:PUBLISH
X-ORIGINAL-URL:https://clamp-net.com
X-WR-CALDESC:clamp-net.com のイベント
REFRESH-INTERVAL;VALUE=DURATION:PT1H
X-Robots-Tag:noindex
X-PUBLISHED-TTL:PT1H
BEGIN:VTIMEZONE
TZID:Asia/Tokyo
BEGIN:STANDARD
TZOFFSETFROM:+0900
TZOFFSETTO:+0900
TZNAME:JST
DTSTART:20240101T000000
END:STANDARD
END:VTIMEZONE
BEGIN:VEVENT
DTSTART;VALUE=DATE:20251229
DTEND;VALUE=DATE:20251230
DTSTAMP:20260426T013804
CREATED:20251222T090156Z
LAST-MODIFIED:20251222T090156Z
UID:60462-1766966400-1767052799@clamp-net.com
SUMMARY:演劇調異譚「xxxHOLiC」 -續・再-ニコ生上映会（再放送21:00〜）
DESCRIPTION:
URL:https://clamp-net.com/schedule/%e6%bc%94%e5%8a%87%e8%aa%bf%e7%95%b0%e8%ad%9a%e3%80%8cxxxholic%e3%80%8d-%e7%ba%8c%e3%83%bb%e5%86%8d-%e3%83%8b%e3%82%b3%e7%94%9f%e4%b8%8a%e6%98%a0%e4%bc%9a%ef%bc%88%e5%86%8d%e6%94%be%e9%80%812100
END:VEVENT
END:VCALENDAR