BEGIN:VCALENDAR
VERSION:2.0
PRODID:-//clamp-net.com - ECPv6.15.18//NONSGML v1.0//EN
CALSCALE:GREGORIAN
METHOD:PUBLISH
X-ORIGINAL-URL:https://clamp-net.com
X-WR-CALDESC:clamp-net.com のイベント
REFRESH-INTERVAL;VALUE=DURATION:PT1H
X-Robots-Tag:noindex
X-PUBLISHED-TTL:PT1H
BEGIN:VTIMEZONE
TZID:Asia/Tokyo
BEGIN:STANDARD
TZOFFSETFROM:+0900
TZOFFSETTO:+0900
TZNAME:JST
DTSTART:20240101T000000
END:STANDARD
END:VTIMEZONE
BEGIN:VEVENT
DTSTART;VALUE=DATE:20251129
DTEND;VALUE=DATE:20251130
DTSTAMP:20260426T053347
CREATED:20251127T030148Z
LAST-MODIFIED:20251127T030148Z
UID:60373-1764374400-1764460799@clamp-net.com
SUMMARY:CONVERSE TOKYO×CLAMPコラボ 第1弾「xxxHOLiC」「ちょびっツ」
DESCRIPTION:
URL:https://clamp-net.com/schedule/converse-tokyoxclamp%e3%82%b3%e3%83%a9%e3%83%9c-%e7%ac%ac1%e5%bc%be%e3%80%8cxxxholic%e3%80%8d%e3%80%8c%e3%81%a1%e3%82%87%e3%81%b3%e3%81%a3%e3%83%84%e3%80%8d
END:VEVENT
BEGIN:VEVENT
DTSTART;VALUE=DATE:20251129
DTEND;VALUE=DATE:20251130
DTSTAMP:20260426T053347
CREATED:20251104T002849Z
LAST-MODIFIED:20251126T070433Z
UID:60269-1764374400-1764460799@clamp-net.com
SUMMARY:『xxxHOLiC・戻〈レイ〉』5巻 通常版＆Blu-ray付き特装版
DESCRIPTION:
URL:https://clamp-net.com/schedule/%e3%80%8exxxholic%e3%83%bb%e6%88%bb%e3%80%88%e3%83%ac%e3%82%a4%e3%80%89%e3%80%8f5%e5%b7%bb-%e9%80%9a%e5%b8%b8%e7%89%88%ef%bc%86blu-ray%e4%bb%98%e3%81%8d%e7%89%b9%e8%a3%85%e7%89%88
END:VEVENT
END:VCALENDAR