BEGIN:VCALENDAR
VERSION:2.0
PRODID:-//clamp-net.com - ECPv6.15.18//NONSGML v1.0//EN
CALSCALE:GREGORIAN
METHOD:PUBLISH
X-WR-CALNAME:clamp-net.com
X-ORIGINAL-URL:https://clamp-net.com
X-WR-CALDESC:clamp-net.com のイベント
REFRESH-INTERVAL;VALUE=DURATION:PT1H
X-Robots-Tag:noindex
X-PUBLISHED-TTL:PT1H
BEGIN:VTIMEZONE
TZID:Asia/Tokyo
BEGIN:STANDARD
TZOFFSETFROM:+0900
TZOFFSETTO:+0900
TZNAME:JST
DTSTART:20240101T000000
END:STANDARD
END:VTIMEZONE
BEGIN:VEVENT
DTSTART;VALUE=DATE:20251128
DTEND;VALUE=DATE:20251129
DTSTAMP:20260426T070307
CREATED:20251128T025917Z
LAST-MODIFIED:20251128T025917Z
UID:60384-1764288000-1764374399@clamp-net.com
SUMMARY:CLAMP幹部会 #ex05「これから発売のいろいろ」
DESCRIPTION:
URL:https://clamp-net.com/schedule/clamp%e5%b9%b9%e9%83%a8%e4%bc%9a-ex05%e3%80%8c%e3%81%93%e3%82%8c%e3%81%8b%e3%82%89%e7%99%ba%e5%a3%b2%e3%81%ae%e3%81%84%e3%82%8d%e3%81%84%e3%82%8d%e3%80%8d
END:VEVENT
END:VCALENDAR