BEGIN:VCALENDAR
VERSION:2.0
PRODID:-//clamp-net.com - ECPv6.15.18//NONSGML v1.0//EN
CALSCALE:GREGORIAN
METHOD:PUBLISH
X-WR-CALNAME:clamp-net.com
X-ORIGINAL-URL:https://clamp-net.com
X-WR-CALDESC:clamp-net.com のイベント
REFRESH-INTERVAL;VALUE=DURATION:PT1H
X-Robots-Tag:noindex
X-PUBLISHED-TTL:PT1H
BEGIN:VTIMEZONE
TZID:Asia/Tokyo
BEGIN:STANDARD
TZOFFSETFROM:+0900
TZOFFSETTO:+0900
TZNAME:JST
DTSTART:20240101T000000
END:STANDARD
END:VTIMEZONE
BEGIN:VEVENT
DTSTART;VALUE=DATE:20251126
DTEND;VALUE=DATE:20251127
DTSTAMP:20260426T095915
CREATED:20251020T015409Z
LAST-MODIFIED:20251020T015409Z
UID:60235-1764115200-1764201599@clamp-net.com
SUMMARY:演劇調異譚「xxxHOLiC」 -續・再- Blu-rayの発売記念コラボレーションカフェ（12/16まで）
DESCRIPTION:
URL:https://clamp-net.com/schedule/%e6%bc%94%e5%8a%87%e8%aa%bf%e7%95%b0%e8%ad%9a%e3%80%8cxxxholic%e3%80%8d-%e7%ba%8c%e3%83%bb%e5%86%8d-blu-ray%e3%81%ae%e7%99%ba%e5%a3%b2%e8%a8%98%e5%bf%b5%e3%82%b3%e3%83%a9%e3%83%9c%e3%83%ac%e3%83%bc
END:VEVENT
END:VCALENDAR