BEGIN:VCALENDAR
VERSION:2.0
PRODID:-//clamp-net.com - ECPv6.15.18//NONSGML v1.0//EN
CALSCALE:GREGORIAN
METHOD:PUBLISH
X-WR-CALNAME:clamp-net.com
X-ORIGINAL-URL:https://clamp-net.com
X-WR-CALDESC:clamp-net.com のイベント
REFRESH-INTERVAL;VALUE=DURATION:PT1H
X-Robots-Tag:noindex
X-PUBLISHED-TTL:PT1H
BEGIN:VTIMEZONE
TZID:Asia/Tokyo
BEGIN:STANDARD
TZOFFSETFROM:+0900
TZOFFSETTO:+0900
TZNAME:JST
DTSTART:20240101T000000
END:STANDARD
END:VTIMEZONE
BEGIN:VEVENT
DTSTART;VALUE=DATE:20251203
DTEND;VALUE=DATE:20251204
DTSTAMP:20260426T013809
CREATED:20251126T080002Z
LAST-MODIFIED:20251126T080002Z
UID:60352-1764720000-1764806399@clamp-net.com
SUMMARY:CPC「CLOVER」発売記念 「なかよし」2026年1月号「CLOVER」第2話 復刻掲載
DESCRIPTION:
URL:https://clamp-net.com/schedule/cpc%e3%80%8cclover%e3%80%8d%e7%99%ba%e5%a3%b2%e8%a8%98%e5%bf%b5-%e3%80%8c%e3%81%aa%e3%81%8b%e3%82%88%e3%81%97%e3%80%8d2026%e5%b9%b41%e6%9c%88%e5%8f%b7%e3%80%8cclover%e3%80%8d%e7%ac%ac2%e8%a9%b1
END:VEVENT
BEGIN:VEVENT
DTSTART;VALUE=DATE:20251205
DTEND;VALUE=DATE:20251206
DTSTAMP:20260426T013809
CREATED:20251104T002853Z
LAST-MODIFIED:20251104T002853Z
UID:60271-1764892800-1764979199@clamp-net.com
SUMMARY:絵本「ソエルとラーグ モコナ=モドキの冒険」電子書籍配信
DESCRIPTION:
URL:https://clamp-net.com/schedule/%e7%b5%b5%e6%9c%ac%e3%80%8c%e3%82%bd%e3%82%a8%e3%83%ab%e3%81%a8%e3%83%a9%e3%83%bc%e3%82%b0-%e3%83%a2%e3%82%b3%e3%83%8a%e3%83%a2%e3%83%89%e3%82%ad%e3%81%ae%e5%86%92%e9%99%ba%e3%80%8d%e9%9b%bb%e5%ad%90
END:VEVENT
BEGIN:VEVENT
DTSTART;VALUE=DATE:20251208
DTEND;VALUE=DATE:20251209
DTSTAMP:20260426T013809
CREATED:20251208T000009Z
LAST-MODIFIED:20251208T000009Z
UID:60420-1765152000-1765238399@clamp-net.com
SUMMARY:「ヤングマガジン」第2/3号 『xxxHOLiC・戻〈レイ〉』連載第69話
DESCRIPTION:
URL:https://clamp-net.com/schedule/%e3%80%8c%e3%83%a4%e3%83%b3%e3%82%b0%e3%83%9e%e3%82%ac%e3%82%b8%e3%83%b3%e3%80%8d%e7%ac%ac2-3%e5%8f%b7-%e3%80%8exxxholic%e3%83%bb%e6%88%bb%e3%80%88%e3%83%ac%e3%82%a4%e3%80%89%e3%80%8f%e9%80%a3
END:VEVENT
BEGIN:VEVENT
DTSTART;VALUE=DATE:20251212
DTEND;VALUE=DATE:20251213
DTSTAMP:20260426T013809
CREATED:20251013T232022Z
LAST-MODIFIED:20251013T232022Z
UID:60203-1765497600-1765583999@clamp-net.com
SUMMARY:CLAMP PREMIUM COLLECTION「CLOVER」2巻
DESCRIPTION:
URL:https://clamp-net.com/schedule/clamp-premium-collection%e3%80%8cclover%e3%80%8d2%e5%b7%bb
END:VEVENT
BEGIN:VEVENT
DTSTART;VALUE=DATE:20251220
DTEND;VALUE=DATE:20251221
DTSTAMP:20260426T013809
CREATED:20251220T025452Z
LAST-MODIFIED:20251220T025452Z
UID:60445-1766188800-1766275199@clamp-net.com
SUMMARY:CLAMP幹部会31回「2025年の再発見と新発見」
DESCRIPTION:
URL:https://clamp-net.com/schedule/clamp%e5%b9%b9%e9%83%a8%e4%bc%9a31%e5%9b%9e%e3%80%8c2025%e5%b9%b4%e3%81%ae%e5%86%8d%e7%99%ba%e8%a6%8b%e3%81%a8%e6%96%b0%e7%99%ba%e8%a6%8b%e3%80%8d
END:VEVENT
BEGIN:VEVENT
DTSTART;VALUE=DATE:20251226
DTEND;VALUE=DATE:20251227
DTSTAMP:20260426T013809
CREATED:20251121T215914Z
LAST-MODIFIED:20251121T215914Z
UID:60337-1766707200-1766793599@clamp-net.com
SUMMARY:「xxxHOLiC」 POP UP SHOP in OIOI＠東京・有楽町マルイ（〜2026/1/11まで）
DESCRIPTION:
URL:https://clamp-net.com/schedule/%e3%80%8cxxxholic%e3%80%8d-pop-up-shop-in-oioi%ef%bc%a0%e6%9d%b1%e4%ba%ac%e3%83%bb%e6%9c%89%e6%a5%bd%e7%94%ba%e3%83%9e%e3%83%ab%e3%82%a4%ef%bc%88%e3%80%9c2026-1-11%e3%81%be%e3%81%a7%ef%bc%89
END:VEVENT
BEGIN:VEVENT
DTSTART;VALUE=DATE:20251229
DTEND;VALUE=DATE:20251230
DTSTAMP:20260426T013809
CREATED:20251222T090156Z
LAST-MODIFIED:20251222T090156Z
UID:60462-1766966400-1767052799@clamp-net.com
SUMMARY:演劇調異譚「xxxHOLiC」 -續・再-ニコ生上映会（再放送21:00〜）
DESCRIPTION:
URL:https://clamp-net.com/schedule/%e6%bc%94%e5%8a%87%e8%aa%bf%e7%95%b0%e8%ad%9a%e3%80%8cxxxholic%e3%80%8d-%e7%ba%8c%e3%83%bb%e5%86%8d-%e3%83%8b%e3%82%b3%e7%94%9f%e4%b8%8a%e6%98%a0%e4%bc%9a%ef%bc%88%e5%86%8d%e6%94%be%e9%80%812100
END:VEVENT
END:VCALENDAR