BEGIN:VCALENDAR
VERSION:2.0
PRODID:-//clamp-net.com - ECPv6.15.18//NONSGML v1.0//EN
CALSCALE:GREGORIAN
METHOD:PUBLISH
X-ORIGINAL-URL:https://clamp-net.com
X-WR-CALDESC:clamp-net.com のイベント
REFRESH-INTERVAL;VALUE=DURATION:PT1H
X-Robots-Tag:noindex
X-PUBLISHED-TTL:PT1H
BEGIN:VTIMEZONE
TZID:Asia/Tokyo
BEGIN:STANDARD
TZOFFSETFROM:+0900
TZOFFSETTO:+0900
TZNAME:JST
DTSTART:20250101T000000
END:STANDARD
END:VTIMEZONE
BEGIN:VEVENT
DTSTART;VALUE=DATE:20260307
DTEND;VALUE=DATE:20260308
DTSTAMP:20260426T014127
CREATED:20251121T215922Z
LAST-MODIFIED:20251121T215922Z
UID:60341-1772841600-1772927999@clamp-net.com
SUMMARY:「xxxHOLiC」 POP UP SHOP in OIOI＠福岡・博多マルイ（〜3/22まで）
DESCRIPTION:
URL:https://clamp-net.com/schedule/%e3%80%8cxxxholic%e3%80%8d-pop-up-shop-in-oioi%ef%bc%a0%e7%a6%8f%e5%b2%a1%e3%83%bb%e5%8d%9a%e5%a4%9a%e3%83%9e%e3%83%ab%e3%82%a4%ef%bc%88%e3%80%9c3-22%e3%81%be%e3%81%a7%ef%bc%89
END:VEVENT
BEGIN:VEVENT
DTSTART;VALUE=DATE:20260310
DTEND;VALUE=DATE:20260311
DTSTAMP:20260426T014127
CREATED:20260310T000028Z
LAST-MODIFIED:20260310T000028Z
UID:60595-1773100800-1773187199@clamp-net.com
SUMMARY:月刊ニュータイプ2026年4月号「ファイブスター物語」連載40周年特集CLAMPコメント掲載
DESCRIPTION:
URL:https://clamp-net.com/schedule/%e6%9c%88%e5%88%8a%e3%83%8b%e3%83%a5%e3%83%bc%e3%82%bf%e3%82%a4%e3%83%972026%e5%b9%b44%e6%9c%88%e5%8f%b7%e3%80%8c%e3%83%95%e3%82%a1%e3%82%a4%e3%83%96%e3%82%b9%e3%82%bf%e3%83%bc%e7%89%a9%e8%aa%9e
END:VEVENT
BEGIN:VEVENT
DTSTART;VALUE=DATE:20260316
DTEND;VALUE=DATE:20260317
DTSTAMP:20260426T014127
CREATED:20260315T232647Z
LAST-MODIFIED:20260315T232647Z
UID:60605-1773619200-1773705599@clamp-net.com
SUMMARY:「ヤングマガジン」第16号 『xxxHOLiC・戻〈レイ〉』連載第73話
DESCRIPTION:
URL:https://clamp-net.com/schedule/%e3%80%8c%e3%83%a4%e3%83%b3%e3%82%b0%e3%83%9e%e3%82%ac%e3%82%b8%e3%83%b3%e3%80%8d%e7%ac%ac16%e5%8f%b7-%e3%80%8exxxholic%e3%83%bb%e6%88%bb%e3%80%88%e3%83%ac%e3%82%a4%e3%80%89%e3%80%8f%e9%80%a3%e8%bc%89
END:VEVENT
BEGIN:VEVENT
DTSTART;VALUE=DATE:20260319
DTEND;VALUE=DATE:20260320
DTSTAMP:20260426T014127
CREATED:20260119T040019Z
LAST-MODIFIED:20260119T040019Z
UID:60512-1773878400-1773964799@clamp-net.com
SUMMARY:グランドオープン予定「CLAMP FANS SHOP」会員情報移行キャンペーン（〜3/10まで）
DESCRIPTION:
URL:https://clamp-net.com/schedule/%e3%82%b0%e3%83%a9%e3%83%b3%e3%83%89%e3%82%aa%e3%83%bc%e3%83%97%e3%83%b3%e4%ba%88%e5%ae%9a%e3%80%8cclamp-fans-shop%e3%80%8d%e4%bc%9a%e5%93%a1%e6%83%85%e5%a0%b1%e7%a7%bb%e8%a1%8c%e3%82%ad%e3%83%a3
END:VEVENT
BEGIN:VEVENT
DTSTART;VALUE=DATE:20260320
DTEND;VALUE=DATE:20260321
DTSTAMP:20260426T014127
CREATED:20260320T022828Z
LAST-MODIFIED:20260320T022828Z
UID:60619-1773964800-1774051199@clamp-net.com
SUMMARY:CLAMP幹部会34回「大人の遠足」
DESCRIPTION:
URL:https://clamp-net.com/schedule/clamp%e5%b9%b9%e9%83%a8%e4%bc%9a34%e5%9b%9e%e3%80%8c%e5%a4%a7%e4%ba%ba%e3%81%ae%e9%81%a0%e8%b6%b3%e3%80%8d
END:VEVENT
BEGIN:VEVENT
DTSTART;VALUE=DATE:20260320
DTEND;VALUE=DATE:20260321
DTSTAMP:20260426T014127
CREATED:20260318T033022Z
LAST-MODIFIED:20260318T033022Z
UID:60610-1773964800-1774051199@clamp-net.com
SUMMARY:CONVERSE TOKYO×CLAMPコラボ 第3弾『東京BABYLON』『X -エックス-』
DESCRIPTION:
URL:https://clamp-net.com/schedule/converse-tokyoxclamp%e3%82%b3%e3%83%a9%e3%83%9c-%e7%ac%ac3%e5%bc%be%e3%80%8e%e6%9d%b1%e4%ba%acbabylon%e3%80%8f%e3%80%8ex-%e3%82%a8%e3%83%83%e3%82%af%e3%82%b9-%e3%80%8f
END:VEVENT
BEGIN:VEVENT
DTSTART;VALUE=DATE:20260326
DTEND;VALUE=DATE:20260327
DTSTAMP:20260426T014127
CREATED:20260326T030019Z
LAST-MODIFIED:20260326T030019Z
UID:60631-1774483200-1774569599@clamp-net.com
SUMMARY:ドールと手芸の雑誌「Dollybird」 vol.41 ※CLAMP描き下ろしあり連載第1回
DESCRIPTION:
URL:https://clamp-net.com/schedule/%e3%83%89%e3%83%bc%e3%83%ab%e3%81%a8%e6%89%8b%e8%8a%b8%e3%81%ae%e9%9b%91%e8%aa%8c%e3%80%8cdollybird%e3%80%8d-vol-41-%e2%80%bbclamp%e6%8f%8f%e3%81%8d%e4%b8%8b%e3%82%8d%e3%81%97%e3%81%82%e3%82%8a
END:VEVENT
BEGIN:VEVENT
DTSTART;VALUE=DATE:20260328
DTEND;VALUE=DATE:20260329
DTSTAMP:20260426T014127
CREATED:20260116T111126Z
LAST-MODIFIED:20260116T111126Z
UID:60498-1774656000-1774742399@clamp-net.com
SUMMARY:TVアニメ『魔法騎士レイアース』スペシャルステージ＠16:15〜AnimeJapan 2026 REDステージ
DESCRIPTION:
URL:https://clamp-net.com/schedule/tv%e3%82%a2%e3%83%8b%e3%83%a1%e3%80%8e%e9%ad%94%e6%b3%95%e9%a8%8e%e5%a3%ab%e3%83%ac%e3%82%a4%e3%82%a2%e3%83%bc%e3%82%b9%e3%80%8f%e3%82%b9%e3%83%9a%e3%82%b7%e3%83%a3%e3%83%ab%e3%82%b9%e3%83%86%e3%83%bc
END:VEVENT
BEGIN:VEVENT
DTSTART;VALUE=DATE:20260330
DTEND;VALUE=DATE:20260331
DTSTAMP:20260426T014127
CREATED:20260330T000018Z
LAST-MODIFIED:20260330T000018Z
UID:60642-1774828800-1774915199@clamp-net.com
SUMMARY:「ヤングマガジン」第18号 『xxxHOLiC・戻〈レイ〉』連載第74話
DESCRIPTION:
URL:https://clamp-net.com/schedule/%e3%80%8c%e3%83%a4%e3%83%b3%e3%82%b0%e3%83%9e%e3%82%ac%e3%82%b8%e3%83%b3%e3%80%8d%e7%ac%ac18%e5%8f%b7-%e3%80%8exxxholic%e3%83%bb%e6%88%bb%e3%80%88%e3%83%ac%e3%82%a4%e3%80%89%e3%80%8f%e9%80%a3%e8%bc%89
END:VEVENT
BEGIN:VEVENT
DTSTART;VALUE=DATE:20260401
DTEND;VALUE=DATE:20260402
DTSTAMP:20260426T014127
CREATED:20260212T030148Z
LAST-MODIFIED:20260212T030148Z
UID:60547-1775001600-1775087999@clamp-net.com
SUMMARY:「CLAMP FANS SHOP」グランドオープン
DESCRIPTION:
URL:https://clamp-net.com/schedule/%e3%80%8cclamp-fans-shop%e3%80%8d%e3%82%b0%e3%83%a9%e3%83%b3%e3%83%89%e3%82%aa%e3%83%bc%e3%83%97%e3%83%b3
END:VEVENT
BEGIN:VEVENT
DTSTART;VALUE=DATE:20260403
DTEND;VALUE=DATE:20260404
DTSTAMP:20260426T014127
CREATED:20260319T000027Z
LAST-MODIFIED:20260319T000027Z
UID:60613-1775174400-1775260799@clamp-net.com
SUMMARY:『なかよし』2026年5月号（4/3発売）付録：レジェンド☆クリアメッセージカード
DESCRIPTION:
URL:https://clamp-net.com/schedule/%e3%80%8e%e3%81%aa%e3%81%8b%e3%82%88%e3%81%97%e3%80%8f2026%e5%b9%b45%e6%9c%88%e5%8f%b7%ef%bc%884-3%e7%99%ba%e5%a3%b2%ef%bc%89%e4%bb%98%e9%8c%b2%ef%bc%9a%e3%83%ac%e3%82%b8%e3%82%a7%e3%83%b3%e3%83%89
END:VEVENT
BEGIN:VEVENT
DTSTART;VALUE=DATE:20260408
DTEND;VALUE=DATE:20260409
DTSTAMP:20260426T014127
CREATED:20260409T000004Z
LAST-MODIFIED:20260409T000004Z
UID:60677-1775606400-1775692799@clamp-net.com
SUMMARY:「CLAMP in KYOTO 綴」コラボ第2弾「魔法騎士レイアース」受注開始
DESCRIPTION:
URL:https://clamp-net.com/schedule/%e3%80%8cclamp-in-kyoto-%e7%b6%b4%e3%80%8d%e3%82%b3%e3%83%a9%e3%83%9c%e7%ac%ac2%e5%bc%be%e3%80%8c%e9%ad%94%e6%b3%95%e9%a8%8e%e5%a3%ab%e3%83%ac%e3%82%a4%e3%82%a2%e3%83%bc%e3%82%b9%e3%80%8d%e5%8f%97
END:VEVENT
BEGIN:VEVENT
DTSTART;VALUE=DATE:20260410
DTEND;VALUE=DATE:20260411
DTSTAMP:20260426T014127
CREATED:20260326T000009Z
LAST-MODIFIED:20260326T000009Z
UID:60626-1775779200-1775865599@clamp-net.com
SUMMARY:TVアニメ「カードファイト!! ヴァンガード Divinez」 CLAMP描き下ろしDSR収録 ブースターパック「赫月ノ使者」
DESCRIPTION:
URL:https://clamp-net.com/schedule/tv%e3%82%a2%e3%83%8b%e3%83%a1%e3%80%8c%e3%82%ab%e3%83%bc%e3%83%89%e3%83%95%e3%82%a1%e3%82%a4%e3%83%88-%e3%83%b4%e3%82%a1%e3%83%b3%e3%82%ac%e3%83%bc%e3%83%89-divinez%e3%80%8d-clamp%e6%8f%8f%e3%81%8d-6
END:VEVENT
BEGIN:VEVENT
DTSTART;VALUE=DATE:20260413
DTEND;VALUE=DATE:20260414
DTSTAMP:20260426T014127
CREATED:20260412T235932Z
LAST-MODIFIED:20260412T235932Z
UID:60681-1776038400-1776124799@clamp-net.com
SUMMARY:「ヤングマガジン」第20号 『xxxHOLiC・戻〈レイ〉』連載第75話
DESCRIPTION:
URL:https://clamp-net.com/schedule/%e3%80%8c%e3%83%a4%e3%83%b3%e3%82%b0%e3%83%9e%e3%82%ac%e3%82%b8%e3%83%b3%e3%80%8d%e7%ac%ac20%e5%8f%b7-%e3%80%8exxxholic%e3%83%bb%e6%88%bb%e3%80%88%e3%83%ac%e3%82%a4%e3%80%89%e3%80%8f%e9%80%a3%e8%bc%89
END:VEVENT
BEGIN:VEVENT
DTSTART;VALUE=DATE:20260416
DTEND;VALUE=DATE:20260417
DTSTAMP:20260426T014127
CREATED:20260330T010017Z
LAST-MODIFIED:20260330T010017Z
UID:60646-1776297600-1776383999@clamp-net.com
SUMMARY:「CLAMP展 -SELECTION-」@韓国AK PLAZA HONGDAE 4F（2026/4/16〜7/19）
DESCRIPTION:
URL:https://clamp-net.com/schedule/%e3%80%8cclamp%e5%b1%95-selection-%e3%80%8d%e9%9f%93%e5%9b%bdak-plaza-hongdae-4f%ef%bc%882026-4-16%e3%80%9c7-19%ef%bc%89
END:VEVENT
BEGIN:VEVENT
DTSTART;VALUE=DATE:20260423
DTEND;VALUE=DATE:20260424
DTSTAMP:20260426T014127
CREATED:20260423T030129Z
LAST-MODIFIED:20260423T030753Z
UID:60706-1776902400-1776988799@clamp-net.com
SUMMARY:ねんどろいど 「ツバサ」黒鋼 予約受付開始
DESCRIPTION:
URL:https://clamp-net.com/schedule/%e3%81%ad%e3%82%93%e3%81%a9%e3%82%8d%e3%81%84%e3%81%a9-%e3%80%8c%e3%83%84%e3%83%90%e3%82%b5%e3%80%8d%e3%81%ad%e3%82%93%e3%81%a9%e3%82%8d%e3%81%84%e3%81%a9-%e9%bb%92%e9%8b%bc-%e4%ba%88%e7%b4%84
END:VEVENT
BEGIN:VEVENT
DTSTART;VALUE=DATE:20260423
DTEND;VALUE=DATE:20260424
DTSTAMP:20260426T014127
CREATED:20260423T030135Z
LAST-MODIFIED:20260423T030135Z
UID:60704-1776902400-1776988799@clamp-net.com
SUMMARY:ねんどろいど 「ツバサ」ファイ・D・フローライト予約受付開始
DESCRIPTION:
URL:https://clamp-net.com/schedule/%e3%81%ad%e3%82%93%e3%81%a9%e3%82%8d%e3%81%84%e3%81%a9-%e3%80%8c%e3%83%84%e3%83%90%e3%82%b5%e3%80%8d%e3%83%95%e3%82%a1%e3%82%a4%e3%83%bbd%e3%83%bb%e3%83%95%e3%83%ad%e3%83%bc%e3%83%a9%e3%82%a4%e3%83%88
END:VEVENT
BEGIN:VEVENT
DTSTART;VALUE=DATE:20260424
DTEND;VALUE=DATE:20260425
DTSTAMP:20260426T014127
CREATED:20260424T033020Z
LAST-MODIFIED:20260424T033020Z
UID:60709-1776988800-1777075199@clamp-net.com
SUMMARY:CONVERSE TOKYO×CLAMPコラボ 『カードキャプターさくら』第1弾（ミヤシタパーク店・梅田店・名古屋店にて先行販売、5/1〜5/10他店舗・オンラインストアにて受注販売受付）
DESCRIPTION:
URL:https://clamp-net.com/schedule/converse-tokyoxclamp%e3%82%b3%e3%83%a9%e3%83%9c-%e3%80%8e%e3%82%ab%e3%83%bc%e3%83%89%e3%82%ad%e3%83%a3%e3%83%97%e3%82%bf%e3%83%bc%e3%81%95%e3%81%8f%e3%82%89%e3%80%8f%e7%ac%ac1%e5%bc%be%ef%bc%88
END:VEVENT
BEGIN:VEVENT
DTSTART;VALUE=DATE:20260502
DTEND;VALUE=DATE:20260503
DTSTAMP:20260426T014127
CREATED:20260406T060009Z
LAST-MODIFIED:20260406T060009Z
UID:60670-1777680000-1777766399@clamp-net.com
SUMMARY:「ヤングエース」2026年6月号 付録：「ANGELIC LAYER」特製ポストカード、第1話特別掲載
DESCRIPTION:
URL:https://clamp-net.com/schedule/%e3%80%8c%e3%83%a4%e3%83%b3%e3%82%b0%e3%82%a8%e3%83%bc%e3%82%b9%e3%80%8d2026%e5%b9%b46%e6%9c%88%e5%8f%b7-%e4%bb%98%e9%8c%b2%ef%bc%9a%e3%80%8cangelic-layer%e3%80%8d%e7%89%b9%e8%a3%bd%e3%83%9d%e3%82%b9
END:VEVENT
BEGIN:VEVENT
DTSTART;VALUE=DATE:20260509
DTEND;VALUE=DATE:20260510
DTSTAMP:20260426T014127
CREATED:20260227T030046Z
LAST-MODIFIED:20260227T030046Z
UID:60572-1778284800-1778371199@clamp-net.com
SUMMARY:CLAMP PREMIUM COLLECTION『ANGELIC LAYER』 １巻
DESCRIPTION:
URL:https://clamp-net.com/schedule/clamp-premium-collection%e3%80%8eangelic-layer%e3%80%8f-%ef%bc%91%e5%b7%bb
END:VEVENT
BEGIN:VEVENT
DTSTART;VALUE=DATE:20260610
DTEND;VALUE=DATE:20260611
DTSTAMP:20260426T014127
CREATED:20260227T030051Z
LAST-MODIFIED:20260227T030051Z
UID:60574-1781049600-1781135999@clamp-net.com
SUMMARY:CLAMP PREMIUM COLLECTION『ANGELIC LAYER』 2巻
DESCRIPTION:
URL:https://clamp-net.com/schedule/clamp-premium-collection%e3%80%8eangelic-layer%e3%80%8f-2%e5%b7%bb
END:VEVENT
BEGIN:VEVENT
DTSTART;VALUE=DATE:20260710
DTEND;VALUE=DATE:20260711
DTSTAMP:20260426T014127
CREATED:20260227T030056Z
LAST-MODIFIED:20260227T030056Z
UID:60576-1783641600-1783727999@clamp-net.com
SUMMARY:CLAMP PREMIUM COLLECTION『ANGELIC LAYER』 3巻
DESCRIPTION:
URL:https://clamp-net.com/schedule/clamp-premium-collection%e3%80%8eangelic-layer%e3%80%8f-3%e5%b7%bb
END:VEVENT
BEGIN:VEVENT
DTSTART;VALUE=DATE:20260810
DTEND;VALUE=DATE:20260811
DTSTAMP:20260426T014127
CREATED:20260227T030100Z
LAST-MODIFIED:20260227T030100Z
UID:60578-1786320000-1786406399@clamp-net.com
SUMMARY:CLAMP PREMIUM COLLECTION『ANGELIC LAYER』 4巻
DESCRIPTION:
URL:https://clamp-net.com/schedule/clamp-premium-collection%e3%80%8eangelic-layer%e3%80%8f-4%e5%b7%bb
END:VEVENT
BEGIN:VEVENT
DTSTART;VALUE=DATE:20260910
DTEND;VALUE=DATE:20260911
DTSTAMP:20260426T014127
CREATED:20260227T030105Z
LAST-MODIFIED:20260227T030105Z
UID:60580-1788998400-1789084799@clamp-net.com
SUMMARY:CLAMP PREMIUM COLLECTION『ANGELIC LAYER』 5巻
DESCRIPTION:
URL:https://clamp-net.com/schedule/clamp-premium-collection%e3%80%8eangelic-layer%e3%80%8f-5%e5%b7%bb
END:VEVENT
BEGIN:VEVENT
DTSTART;VALUE=DATE:20261002
DTEND;VALUE=DATE:20261003
DTSTAMP:20260426T014127
CREATED:20260415T000021Z
LAST-MODIFIED:20260415T000021Z
UID:60685-1790899200-1790985599@clamp-net.com
SUMMARY:「カードファイト!! ヴァンガード Divinez 運命星戦編」劇場先行上映
DESCRIPTION:
URL:https://clamp-net.com/schedule/%e3%80%8c%e3%82%ab%e3%83%bc%e3%83%89%e3%83%95%e3%82%a1%e3%82%a4%e3%83%88-%e3%83%b4%e3%82%a1%e3%83%b3%e3%82%ac%e3%83%bc%e3%83%89-divinez-%e9%81%8b%e5%91%bd%e6%98%9f%e6%88%a6%e7%b7%a8%e3%80%8d
END:VEVENT
BEGIN:VEVENT
DTSTART;VALUE=DATE:20261107
DTEND;VALUE=DATE:20261108
DTSTAMP:20260426T014127
CREATED:20260415T000016Z
LAST-MODIFIED:20260415T000016Z
UID:60687-1794009600-1794095999@clamp-net.com
SUMMARY:「カードファイト!! ヴァンガード Divinez 運命星戦編」TVアニメ放送（11/7、14、21全3話）
DESCRIPTION:
URL:https://clamp-net.com/schedule/%e3%80%8c%e3%82%ab%e3%83%bc%e3%83%89%e3%83%95%e3%82%a1%e3%82%a4%e3%83%88-%e3%83%b4%e3%82%a1%e3%83%b3%e3%82%ac%e3%83%bc%e3%83%89-divinez-%e9%81%8b%e5%91%bd%e6%98%9f%e6%88%a6%e7%b7%a8%e3%80%8dtv
END:VEVENT
END:VCALENDAR